BEGIN:VCALENDAR
VERSION:2.0
PRODID:-//Norsk Landbrukssamvirke - ECPv6.15.17.1//NONSGML v1.0//EN
CALSCALE:GREGORIAN
METHOD:PUBLISH
X-ORIGINAL-URL:https://landbruk.no
X-WR-CALDESC:Arrangement for Norsk Landbrukssamvirke
REFRESH-INTERVAL;VALUE=DURATION:PT1H
X-Robots-Tag:noindex
X-PUBLISHED-TTL:PT1H
BEGIN:VTIMEZONE
TZID:Europe/Oslo
BEGIN:DAYLIGHT
TZOFFSETFROM:+0100
TZOFFSETTO:+0200
TZNAME:CEST
DTSTART:20250330T010000
END:DAYLIGHT
BEGIN:STANDARD
TZOFFSETFROM:+0200
TZOFFSETTO:+0100
TZNAME:CET
DTSTART:20251026T010000
END:STANDARD
BEGIN:DAYLIGHT
TZOFFSETFROM:+0100
TZOFFSETTO:+0200
TZNAME:CEST
DTSTART:20260329T010000
END:DAYLIGHT
BEGIN:STANDARD
TZOFFSETFROM:+0200
TZOFFSETTO:+0100
TZNAME:CET
DTSTART:20261025T010000
END:STANDARD
BEGIN:DAYLIGHT
TZOFFSETFROM:+0100
TZOFFSETTO:+0200
TZNAME:CEST
DTSTART:20270328T010000
END:DAYLIGHT
BEGIN:STANDARD
TZOFFSETFROM:+0200
TZOFFSETTO:+0100
TZNAME:CET
DTSTART:20271031T010000
END:STANDARD
END:VTIMEZONE
BEGIN:VEVENT
DTSTART;VALUE=DATE:20261102
DTEND;VALUE=DATE:20261104
DTSTAMP:20260423T154113
CREATED:20250124T132916Z
LAST-MODIFIED:20250124T132919Z
UID:7053-1793577600-1793750399@landbruk.no
SUMMARY:Norske Landbrukstenester - styremøte
DESCRIPTION:
URL:https://landbruk.no/arrangement/norske-landbrukstenester-styremote-13/
CATEGORIES:Møte
ATTACH;FMTTYPE=image/jpeg:https://landbruk.no/wp-content/uploads/2025/01/landscape-of-wheat-field-at-sunset-after-rain-2022-03-04-03-17-35-utc.jpg
END:VEVENT
BEGIN:VEVENT
DTSTART;VALUE=DATE:20261102
DTEND;VALUE=DATE:20261104
DTSTAMP:20260423T154113
CREATED:20250829T133038Z
LAST-MODIFIED:20250925T065325Z
UID:7421-1793577600-1793750399@landbruk.no
SUMMARY:Samvirkekonferansen 2026 - Nord
DESCRIPTION:Konferansen gjennomføres i Bodø\, mer informasjon kommer! \n3. november: individuell dag for organisasjoner\n4. november: felles konferansedag for alle organisasjoner
URL:https://landbruk.no/arrangement/samvirkekonferansen-2026-nord/
CATEGORIES:Konferanse
ATTACH;FMTTYPE=image/jpeg:https://landbruk.no/wp-content/uploads/2023/03/landscape-of-wheat-field-at-sunset-after-rain-2022-03-04-03-17-35-utc.jpg
END:VEVENT
BEGIN:VEVENT
DTSTART;VALUE=DATE:20261103
DTEND;VALUE=DATE:20261106
DTSTAMP:20260423T154113
CREATED:20250124T132916Z
LAST-MODIFIED:20250124T132920Z
UID:7055-1793664000-1793923199@landbruk.no
SUMMARY:Norske Landbrukstenester - haustsamling
DESCRIPTION:
URL:https://landbruk.no/arrangement/norske-landbrukstenester-haustsamling-2/
CATEGORIES:Møte
ATTACH;FMTTYPE=image/jpeg:https://landbruk.no/wp-content/uploads/2025/01/landscape-of-wheat-field-at-sunset-after-rain-2022-03-04-03-17-35-utc.jpg
END:VEVENT
BEGIN:VEVENT
DTSTART;TZID=Europe/Oslo:20261103T100000
DTEND;TZID=Europe/Oslo:20261103T130000
DTSTAMP:20260423T154113
CREATED:20250124T132801Z
LAST-MODIFIED:20260323T190318Z
UID:6818-1793700000-1793710800@landbruk.no
SUMMARY:Samvirke i norsk landbruk - 3. samling (digital)
DESCRIPTION:Tredje av totalt 5 forelesninger \nGjennomføring: digitalt/webinar \nTidspunkt: kl. 10:00 dag 1 og avsluttes kl 16:00 dag 2. \nSpørsmål: post@landbruk.no
URL:https://landbruk.no/arrangement/kurs-i-politikk-2-webinar/
LOCATION:Digitalt
CATEGORIES:Kurs
ATTACH;FMTTYPE=image/jpeg:https://landbruk.no/wp-content/uploads/2022/12/deal-handshake-and-agriculture-partnership-at-far-2023-02-24-22-26-18-utc.jpg
END:VEVENT
BEGIN:VEVENT
DTSTART;VALUE=DATE:20261105
DTEND;VALUE=DATE:20261107
DTSTAMP:20260423T154113
CREATED:20250827T114833Z
LAST-MODIFIED:20260107T134701Z
UID:7417-1793836800-1794009599@landbruk.no
SUMMARY:Samvirkekonferansen 2026 - Vest
DESCRIPTION:Mer informasjon kommer! \n5. november: individuell dag for organisasjoner\n6. november: felles konferansedag for alle organisasjoner
URL:https://landbruk.no/arrangement/samvirkekonferansen-2026-vest/
CATEGORIES:Konferanse
ATTACH;FMTTYPE=image/jpeg:https://landbruk.no/wp-content/uploads/2023/03/landscape-of-wheat-field-at-sunset-after-rain-2022-03-04-03-17-35-utc.jpg
END:VEVENT
BEGIN:VEVENT
DTSTART;VALUE=DATE:20261105
DTEND;VALUE=DATE:20261107
DTSTAMP:20260423T154113
CREATED:20250917T070001Z
LAST-MODIFIED:20260102T101811Z
UID:6822-1793836800-1794009599@landbruk.no
SUMMARY:Storfe 2026
DESCRIPTION:
URL:https://landbruk.no/arrangement/storfe-2023/
LOCATION:Scandic Oslo Airport
CATEGORIES:Konferanse
ATTACH;FMTTYPE=image/jpeg:https://landbruk.no/wp-content/uploads/2025/01/landscape-of-wheat-field-at-sunset-after-rain-2022-03-04-03-17-35-utc.jpg
END:VEVENT
BEGIN:VEVENT
DTSTART;VALUE=DATE:20261110
DTEND;VALUE=DATE:20261111
DTSTAMP:20260423T154113
CREATED:20250124T132822Z
LAST-MODIFIED:20251002T091921Z
UID:6885-1794268800-1794355199@landbruk.no
SUMMARY:TINE SA - styremøte
DESCRIPTION:Digitalt
URL:https://landbruk.no/arrangement/tine-sa-styremote-4/
CATEGORIES:Møte
ATTACH;FMTTYPE=image/jpeg:https://landbruk.no/wp-content/uploads/2025/01/landscape-of-wheat-field-at-sunset-after-rain-2022-03-04-03-17-35-utc.jpg
END:VEVENT
BEGIN:VEVENT
DTSTART;VALUE=DATE:20261111
DTEND;VALUE=DATE:20261112
DTSTAMP:20260423T154113
CREATED:20250124T132822Z
LAST-MODIFIED:20251002T091649Z
UID:6887-1794355200-1794441599@landbruk.no
SUMMARY:TINE SA - rådsmøte
DESCRIPTION:
URL:https://landbruk.no/arrangement/tine-sa-radsmote-2/
CATEGORIES:Møte
ATTACH;FMTTYPE=image/jpeg:https://landbruk.no/wp-content/uploads/2025/01/landscape-of-wheat-field-at-sunset-after-rain-2022-03-04-03-17-35-utc.jpg
END:VEVENT
BEGIN:VEVENT
DTSTART;VALUE=DATE:20261111
DTEND;VALUE=DATE:20261112
DTSTAMP:20260423T154113
CREATED:20250124T132843Z
LAST-MODIFIED:20251126T084106Z
UID:6953-1794355200-1794441599@landbruk.no
SUMMARY:Norsvin - styremøte
DESCRIPTION:
URL:https://landbruk.no/arrangement/geno-styremote-2/
CATEGORIES:Møte
ATTACH;FMTTYPE=image/jpeg:https://landbruk.no/wp-content/uploads/2025/01/landscape-of-wheat-field-at-sunset-after-rain-2022-03-04-03-17-35-utc.jpg
END:VEVENT
BEGIN:VEVENT
DTSTART;VALUE=DATE:20261112
DTEND;VALUE=DATE:20261114
DTSTAMP:20260423T154113
CREATED:20250124T132850Z
LAST-MODIFIED:20251126T084205Z
UID:6959-1794441600-1794614399@landbruk.no
SUMMARY:Norsvin - avlsbesetningsmøte
DESCRIPTION:
URL:https://landbruk.no/arrangement/geno-styremote-7/
CATEGORIES:Møte
ATTACH;FMTTYPE=image/jpeg:https://landbruk.no/wp-content/uploads/2025/01/landscape-of-wheat-field-at-sunset-after-rain-2022-03-04-03-17-35-utc.jpg
END:VEVENT
BEGIN:VEVENT
DTSTART;VALUE=DATE:20261117
DTEND;VALUE=DATE:20261119
DTSTAMP:20260423T154113
CREATED:20250904T061705Z
LAST-MODIFIED:20260107T134939Z
UID:7431-1794873600-1795046399@landbruk.no
SUMMARY:Samvirkekonferansen 2026 - Sør
DESCRIPTION:Mer informasjon kommer! \n17. november: individuell dag for organisasjoner\n18. november: felles konferansedag for alle organisasjoner
URL:https://landbruk.no/arrangement/samvirkekonferansen-2026-sor/
CATEGORIES:Konferanse
ATTACH;FMTTYPE=image/jpeg:https://landbruk.no/wp-content/uploads/2023/03/landscape-of-wheat-field-at-sunset-after-rain-2022-03-04-03-17-35-utc.jpg
END:VEVENT
BEGIN:VEVENT
DTSTART;VALUE=DATE:20261117
DTEND;VALUE=DATE:20261119
DTSTAMP:20260423T154113
CREATED:20250124T132943Z
LAST-MODIFIED:20251204T050718Z
UID:7133-1794873600-1795046399@landbruk.no
SUMMARY:Samvirkekonferansen 2026 - Innlandet
DESCRIPTION:17. november: individuell dag for organisasjoner\n18. november: felles konferansedag for alle organisasjoner
URL:https://landbruk.no/arrangement/samvirkekonferanse-region-innlandet/
CATEGORIES:Konferanse
ATTACH;FMTTYPE=image/jpeg:https://landbruk.no/wp-content/uploads/2025/01/landscape-of-wheat-field-at-sunset-after-rain-2022-03-04-03-17-35-utc.jpg
END:VEVENT
BEGIN:VEVENT
DTSTART;TZID=Europe/Oslo:20261117T110000
DTEND;TZID=Europe/Oslo:20261117T130000
DTSTAMP:20260423T154113
CREATED:20250521T052001Z
LAST-MODIFIED:20260323T190557Z
UID:6821-1794913200-1794920400@landbruk.no
SUMMARY:Samvirke i norsk landbruk - 4. samling (digital)
DESCRIPTION:Fjerde av totalt 5 forelesninger \nGjennomføring: digitalt/webinar \nTidspunkt:kl. 10:00 – kl 13:00. \nSpørsmål: post@landbruk.no
URL:https://landbruk.no/arrangement/kurs-i-politikk-3-samling/
LOCATION:Digitalt
CATEGORIES:Kurs
ATTACH;FMTTYPE=image/jpeg:https://landbruk.no/wp-content/uploads/2022/12/deal-handshake-and-agriculture-partnership-at-far-2023-02-24-22-26-18-utc.jpg
END:VEVENT
BEGIN:VEVENT
DTSTART;TZID=Europe/Oslo:20261118T100000
DTEND;TZID=Europe/Oslo:20261118T133000
DTSTAMP:20260423T154113
CREATED:20250124T132936Z
LAST-MODIFIED:20250925T192315Z
UID:7099-1794996000-1795008600@landbruk.no
SUMMARY:Landkreditt Bank - styremøte
DESCRIPTION:
URL:https://landbruk.no/arrangement/landkreditt-bank-styremote-7/
CATEGORIES:Møte
ATTACH;FMTTYPE=image/jpeg:https://landbruk.no/wp-content/uploads/2025/01/landscape-of-wheat-field-at-sunset-after-rain-2022-03-04-03-17-35-utc.jpg
END:VEVENT
BEGIN:VEVENT
DTSTART;TZID=Europe/Oslo:20261119T100000
DTEND;TZID=Europe/Oslo:20261119T180000
DTSTAMP:20260423T154113
CREATED:20250124T132829Z
LAST-MODIFIED:20250926T063213Z
UID:6904-1795082400-1795111200@landbruk.no
SUMMARY:Landkreditt SA – styremøte
DESCRIPTION:
URL:https://landbruk.no/arrangement/landkreditt-boligkreditt-styremote/
CATEGORIES:Møte
ATTACH;FMTTYPE=image/jpeg:https://landbruk.no/wp-content/uploads/2025/01/landscape-of-wheat-field-at-sunset-after-rain-2022-03-04-03-17-35-utc.jpg
END:VEVENT
BEGIN:VEVENT
DTSTART;VALUE=DATE:20261124
DTEND;VALUE=DATE:20261126
DTSTAMP:20260423T154113
CREATED:20250827T115037Z
LAST-MODIFIED:20260107T133946Z
UID:7419-1795478400-1795651199@landbruk.no
SUMMARY:Samvirkekonferansen 2026 - Øst
DESCRIPTION:Mer informasjon kommer! \n24. november: individuell dag for organisasjoner\n25. november: felles konferansedag for alle organisasjoner
URL:https://landbruk.no/arrangement/samvirkekonferansen-2026-ost/
CATEGORIES:Konferanse
ATTACH;FMTTYPE=image/jpeg:https://landbruk.no/wp-content/uploads/2023/03/landscape-of-wheat-field-at-sunset-after-rain-2022-03-04-03-17-35-utc.jpg
END:VEVENT
BEGIN:VEVENT
DTSTART;VALUE=DATE:20261125
DTEND;VALUE=DATE:20261126
DTSTAMP:20260423T154113
CREATED:20251010T105346Z
LAST-MODIFIED:20251010T110019Z
UID:7486-1795564800-1795651199@landbruk.no
SUMMARY:Felleskjøpet Agri - Styremøte
DESCRIPTION:
URL:https://landbruk.no/arrangement/felleskjopet-agri-styremote-7/
CATEGORIES:Møte
ATTACH;FMTTYPE=image/jpeg:https://landbruk.no/wp-content/uploads/2023/03/landscape-of-wheat-field-at-sunset-after-rain-2022-03-04-03-17-35-utc.jpg
END:VEVENT
BEGIN:VEVENT
DTSTART;VALUE=DATE:20261125
DTEND;VALUE=DATE:20261127
DTSTAMP:20260423T154113
CREATED:20250124T132943Z
LAST-MODIFIED:20250827T114409Z
UID:7134-1795564800-1795737599@landbruk.no
SUMMARY:Samvirkekonferansen 2026 - Midt
DESCRIPTION:Mer informasjon kommer! \n25. november: individuell dag for organisasjoner\n26. november: felles konferansedag for alle organisasjoner
URL:https://landbruk.no/arrangement/samvirkekonferanse-region-midt/
CATEGORIES:Konferanse
ATTACH;FMTTYPE=image/jpeg:https://landbruk.no/wp-content/uploads/2025/01/landscape-of-wheat-field-at-sunset-after-rain-2022-03-04-03-17-35-utc.jpg
END:VEVENT
BEGIN:VEVENT
DTSTART;VALUE=DATE:20261126
DTEND;VALUE=DATE:20261127
DTSTAMP:20260423T154113
CREATED:20260202T084635Z
LAST-MODIFIED:20260202T084636Z
UID:7603-1795651200-1795737599@landbruk.no
SUMMARY:Landbrukets bærekraftskonferanse 2026
DESCRIPTION:Sted: Oslo Eventhub (Oslo sentrum)
URL:https://landbruk.no/arrangement/landbrukets-baerekraftskonferanse-2026/
CATEGORIES:Konferanse
ATTACH;FMTTYPE=image/jpeg:https://landbruk.no/wp-content/uploads/2025/01/landscape-of-wheat-field-at-sunset-after-rain-2022-03-04-03-17-35-utc.jpg
END:VEVENT
BEGIN:VEVENT
DTSTART;VALUE=DATE:20261201
DTEND;VALUE=DATE:20261203
DTSTAMP:20260423T154113
CREATED:20250124T132909Z
LAST-MODIFIED:20260317T123640Z
UID:7029-1796083200-1796255999@landbruk.no
SUMMARY:Nortura SA - årsmøte
DESCRIPTION:
URL:https://landbruk.no/arrangement/norges-birokterlag-arsmote/
CATEGORIES:Møte
ATTACH;FMTTYPE=image/jpeg:https://landbruk.no/wp-content/uploads/2025/01/landscape-of-wheat-field-at-sunset-after-rain-2022-03-04-03-17-35-utc.jpg
END:VEVENT
BEGIN:VEVENT
DTSTART;TZID=Europe/Oslo:20261202T100000
DTEND;TZID=Europe/Oslo:20261203T160000
DTSTAMP:20260423T154113
CREATED:20250124T132801Z
LAST-MODIFIED:20260323T190434Z
UID:6820-1796205600-1796313600@landbruk.no
SUMMARY:Samvirke i norsk landbruk - 5. samling
DESCRIPTION:Siste av totalt 5 forelesninger \nAdresse: Garder Kurs & Konferansesenter \nTidspunkt: kl. 10:00 dag 1 og avsluttes kl 16:00 dag 2. \nSpørsmål: post@landbruk.no \n 
URL:https://landbruk.no/arrangement/kurs-i-politikk-2-samling/
LOCATION:Garder Kurs og Konferansesenter
CATEGORIES:Kurs
ATTACH;FMTTYPE=image/jpeg:https://landbruk.no/wp-content/uploads/2022/12/deal-handshake-and-agriculture-partnership-at-far-2023-02-24-22-26-18-utc.jpg
END:VEVENT
BEGIN:VEVENT
DTSTART;VALUE=DATE:20261203
DTEND;VALUE=DATE:20261204
DTSTAMP:20260423T154113
CREATED:20250124T132822Z
LAST-MODIFIED:20251002T092412Z
UID:6882-1796256000-1796342399@landbruk.no
SUMMARY:TINE SA - styremøte
DESCRIPTION:Digitalt
URL:https://landbruk.no/arrangement/tine-sa-produsentlagsledere/
CATEGORIES:Møte
ATTACH;FMTTYPE=image/jpeg:https://landbruk.no/wp-content/uploads/2025/01/landscape-of-wheat-field-at-sunset-after-rain-2022-03-04-03-17-35-utc.jpg
END:VEVENT
BEGIN:VEVENT
DTSTART;TZID=Europe/Oslo:20261207T090000
DTEND;TZID=Europe/Oslo:20261207T130000
DTSTAMP:20260423T154113
CREATED:20250124T132829Z
LAST-MODIFIED:20250925T185825Z
UID:6905-1796634000-1796648400@landbruk.no
SUMMARY:Landkreditt Forvaltning – styremøte
DESCRIPTION:
URL:https://landbruk.no/arrangement/landkreditt-forvaltning-styremote/
CATEGORIES:Møte
ATTACH;FMTTYPE=image/jpeg:https://landbruk.no/wp-content/uploads/2025/01/landscape-of-wheat-field-at-sunset-after-rain-2022-03-04-03-17-35-utc.jpg
END:VEVENT
BEGIN:VEVENT
DTSTART;TZID=Europe/Oslo:20261207T130000
DTEND;TZID=Europe/Oslo:20261207T170000
DTSTAMP:20260423T154113
CREATED:20250124T132829Z
LAST-MODIFIED:20250925T190259Z
UID:6906-1796648400-1796662800@landbruk.no
SUMMARY:Landkreditt Eiendom – styremøte
DESCRIPTION:
URL:https://landbruk.no/arrangement/landkreditt-eiendom-styremote/
CATEGORIES:Møte
ATTACH;FMTTYPE=image/jpeg:https://landbruk.no/wp-content/uploads/2025/01/landscape-of-wheat-field-at-sunset-after-rain-2022-03-04-03-17-35-utc.jpg
END:VEVENT
BEGIN:VEVENT
DTSTART;VALUE=DATE:20261208
DTEND;VALUE=DATE:20261210
DTSTAMP:20260423T154113
CREATED:20250124T132836Z
LAST-MODIFIED:20251210T092746Z
UID:6930-1796688000-1796860799@landbruk.no
SUMMARY:Geno - styremøte
DESCRIPTION:
URL:https://landbruk.no/arrangement/norsk-bonde-og-smabrukarlag/
CATEGORIES:Møte
ATTACH;FMTTYPE=image/jpeg:https://landbruk.no/wp-content/uploads/2025/01/landscape-of-wheat-field-at-sunset-after-rain-2022-03-04-03-17-35-utc.jpg
END:VEVENT
BEGIN:VEVENT
DTSTART;VALUE=DATE:20261208
DTEND;VALUE=DATE:20261210
DTSTAMP:20260423T154113
CREATED:20250124T132808Z
LAST-MODIFIED:20250124T132809Z
UID:6842-1796688000-1796860799@landbruk.no
SUMMARY:Norges Bondelag - Styremøte
DESCRIPTION:
URL:https://landbruk.no/arrangement/norges-bondelag-styremote-og-representantskapsmote/
CATEGORIES:Møte
ATTACH;FMTTYPE=image/jpeg:https://landbruk.no/wp-content/uploads/2025/01/landscape-of-wheat-field-at-sunset-after-rain-2022-03-04-03-17-35-utc.jpg
END:VEVENT
BEGIN:VEVENT
DTSTART;TZID=Europe/Oslo:20261208T090000
DTEND;TZID=Europe/Oslo:20261208T130000
DTSTAMP:20260423T154113
CREATED:20250124T132936Z
LAST-MODIFIED:20250925T190623Z
UID:7107-1796720400-1796734800@landbruk.no
SUMMARY:Landkreditt Boligkreditt - styremøte
DESCRIPTION:Gjennomføres digitalt
URL:https://landbruk.no/arrangement/landkreditt-boligkreditt-styremote-2/
CATEGORIES:Møte
ATTACH;FMTTYPE=image/jpeg:https://landbruk.no/wp-content/uploads/2025/01/landscape-of-wheat-field-at-sunset-after-rain-2022-03-04-03-17-35-utc.jpg
END:VEVENT
BEGIN:VEVENT
DTSTART;VALUE=DATE:20261209
DTEND;VALUE=DATE:20261210
DTSTAMP:20260423T154113
CREATED:20250124T132808Z
LAST-MODIFIED:20250124T132810Z
UID:6845-1796774400-1796860799@landbruk.no
SUMMARY:Norges Bondelag - Styremøte i BS
DESCRIPTION:
URL:https://landbruk.no/arrangement/bondelagets-servicekontor-generalforsamling-2/
CATEGORIES:Møte
ATTACH;FMTTYPE=image/jpeg:https://landbruk.no/wp-content/uploads/2025/01/landscape-of-wheat-field-at-sunset-after-rain-2022-03-04-03-17-35-utc.jpg
END:VEVENT
BEGIN:VEVENT
DTSTART;VALUE=DATE:20261209
DTEND;VALUE=DATE:20261211
DTSTAMP:20260423T154113
CREATED:20250124T132843Z
LAST-MODIFIED:20251126T084322Z
UID:6954-1796774400-1796947199@landbruk.no
SUMMARY:Norsvin - styremøte
DESCRIPTION:
URL:https://landbruk.no/arrangement/geno-styremote-3/
CATEGORIES:Møte
ATTACH;FMTTYPE=image/jpeg:https://landbruk.no/wp-content/uploads/2025/01/landscape-of-wheat-field-at-sunset-after-rain-2022-03-04-03-17-35-utc.jpg
END:VEVENT
BEGIN:VEVENT
DTSTART;VALUE=DATE:20261209
DTEND;VALUE=DATE:20261211
DTSTAMP:20260423T154113
CREATED:20250124T132916Z
LAST-MODIFIED:20250124T132918Z
UID:7049-1796774400-1796947199@landbruk.no
SUMMARY:Norske Landbrukstenester - styremøte/valgkomitémøte
DESCRIPTION:
URL:https://landbruk.no/arrangement/norske-landbrukstenester-styremote-valgkomitemote-2/
CATEGORIES:Møte
ATTACH;FMTTYPE=image/jpeg:https://landbruk.no/wp-content/uploads/2025/01/landscape-of-wheat-field-at-sunset-after-rain-2022-03-04-03-17-35-utc.jpg
END:VEVENT
END:VCALENDAR